BEGIN:VCALENDAR
VERSION:2.0
PRODID:-//eventon.com NONSGML v1.0//EN
CALSCALE:GREGORIAN
METHOD:PUBLISH
BEGIN:VEVENT
UID:69e8886c22855
DTSTAMP:20260422T083556Z
DTSTART:20260420
DTEND:20260421
LOCATION:
SUMMARY:Formation officielle UnFix
DESCRIPTION:[vc_row bottom_padding= »20&Prime;][vc_column width= »1/1&P
 rime;][vc_column_text]Plongez dans une approche novatrice de design organis
 ationnel avec la formation certifiante unFIX de deux jours. Développé par
  Jurgen Appelo (auteur de Management 3.0)\,  le modèle unFIX offre une bib
 liothèque de patterns pour créer des organisations adaptables axées sur 
 l’innovation continue et l’expérience humaine. Contrairement aux frame
 works agiles[..]\nhttps://corporatemavericks.com/events/formation-officiell
 e-unfix/
URL:https://corporatemavericks.com/events/formation-officielle-unfix/
END:VEVENT
END:VCALENDAR